BEGIN:VCALENDAR
VERSION:2.0
PRODID:-//The Harkin Institute - ECPv6.15.17.1//NONSGML v1.0//EN
CALSCALE:GREGORIAN
METHOD:PUBLISH
X-WR-CALNAME:The Harkin Institute
X-ORIGINAL-URL:https://harkininstitute.drake.edu
X-WR-CALDESC:Events for The Harkin Institute
REFRESH-INTERVAL;VALUE=DURATION:PT1H
X-Robots-Tag:noindex
X-PUBLISHED-TTL:PT1H
BEGIN:VTIMEZONE
TZID:America/Chicago
BEGIN:DAYLIGHT
TZOFFSETFROM:-0600
TZOFFSETTO:-0500
TZNAME:CDT
DTSTART:20240310T080000
END:DAYLIGHT
BEGIN:STANDARD
TZOFFSETFROM:-0500
TZOFFSETTO:-0600
TZNAME:CST
DTSTART:20241103T070000
END:STANDARD
BEGIN:DAYLIGHT
TZOFFSETFROM:-0600
TZOFFSETTO:-0500
TZNAME:CDT
DTSTART:20250309T080000
END:DAYLIGHT
BEGIN:STANDARD
TZOFFSETFROM:-0500
TZOFFSETTO:-0600
TZNAME:CST
DTSTART:20251102T070000
END:STANDARD
BEGIN:DAYLIGHT
TZOFFSETFROM:-0600
TZOFFSETTO:-0500
TZNAME:CDT
DTSTART:20260308T080000
END:DAYLIGHT
BEGIN:STANDARD
TZOFFSETFROM:-0500
TZOFFSETTO:-0600
TZNAME:CST
DTSTART:20261101T070000
END:STANDARD
END:VTIMEZONE
BEGIN:VEVENT
DTSTART;VALUE=DATE:20250416
DTEND;VALUE=DATE:20250417
DTSTAMP:20260419T204223
CREATED:20250303T171637Z
LAST-MODIFIED:20250303T171740Z
UID:11947-1744761600-1744847999@harkininstitute.drake.edu
SUMMARY:April 16 | Harkin On Wellness Symposium 2025: The Future of Clean Water
DESCRIPTION:The 2025 Harkin On Wellness Symposium will take place on April 16\, 2025\, focusing on the Future of Clean Water. This year’s theme was chosen to highlight and synthesize the progress being made around the country in protecting and improving water quality through community engagement\, environmental education\, watershed protection\, water conservation initiatives\, and innovative water quality monitoring programs. \nClean water is fundamental to public health and environmental sustainability and is increasingly under threat from climate change and other human-caused risks. Community-based initiatives that protect and improve water quality have been shown to have lasting\, positive impacts on both human and environmental health. Furthermore\, programs that engage communities in hands-on water quality improvement and conservation can foster environmental stewardship that benefits current and future generations. \nThis year’s event will recognize groups working to preserve clean water\, including nonprofit organizations\, environmental groups\, and community organizations\, for the tremendous role they play in protecting this vital resource.
URL:https://harkininstitute.drake.edu/event/april-16-harkin-on-wellness-symposium-2025-the-future-of-clean-water/
LOCATION:The Olmsted Center at Drake University\, 2875 University Avenue\, Des Moines\, IA\, 50311\, United States
CATEGORIES:Harkin On Wellness Symposium
ATTACH;FMTTYPE=image/jpeg:https://harkininstitute.drake.edu/wp-content/uploads/sites/103/2025/03/HOW-25_Eventbrite-header-scaled.jpg
ORGANIZER;CN="The Harkin Institute":MAILTO:harkininstitute@drake.edu
END:VEVENT
END:VCALENDAR