BEGIN:VCALENDAR
VERSION:2.0
PRODID:-//The Harkin Institute - ECPv6.15.17.1//NONSGML v1.0//EN
CALSCALE:GREGORIAN
METHOD:PUBLISH
X-ORIGINAL-URL:https://harkininstitute.drake.edu
X-WR-CALDESC:Events for The Harkin Institute
REFRESH-INTERVAL;VALUE=DURATION:PT1H
X-Robots-Tag:noindex
X-PUBLISHED-TTL:PT1H
BEGIN:VTIMEZONE
TZID:America/Chicago
BEGIN:DAYLIGHT
TZOFFSETFROM:-0600
TZOFFSETTO:-0500
TZNAME:CDT
DTSTART:20240310T080000
END:DAYLIGHT
BEGIN:STANDARD
TZOFFSETFROM:-0500
TZOFFSETTO:-0600
TZNAME:CST
DTSTART:20241103T070000
END:STANDARD
BEGIN:DAYLIGHT
TZOFFSETFROM:-0600
TZOFFSETTO:-0500
TZNAME:CDT
DTSTART:20250309T080000
END:DAYLIGHT
BEGIN:STANDARD
TZOFFSETFROM:-0500
TZOFFSETTO:-0600
TZNAME:CST
DTSTART:20251102T070000
END:STANDARD
BEGIN:DAYLIGHT
TZOFFSETFROM:-0600
TZOFFSETTO:-0500
TZNAME:CDT
DTSTART:20260308T080000
END:DAYLIGHT
BEGIN:STANDARD
TZOFFSETFROM:-0500
TZOFFSETTO:-0600
TZNAME:CST
DTSTART:20261101T070000
END:STANDARD
END:VTIMEZONE
BEGIN:VEVENT
DTSTART;TZID=America/Chicago:20250429T180000
DTEND;TZID=America/Chicago:20250429T200000
DTSTAMP:20260419T193028
CREATED:20250411T155834Z
LAST-MODIFIED:20250411T155845Z
UID:12085-1745949600-1745956800@harkininstitute.drake.edu
SUMMARY:April 29 | ADA Documentary Screening and Panel Discussion of “Change Not Charity: The Americans with Disabilities Act”
DESCRIPTION:The Harkin Institute and Iowa PBS are hosting an accessible screening of Change Not Charity: The Americans with Disabilities Act\, followed by a panel discussion with film director Jim Lebrecht and film writer/producer Chana Gazit. The screening will include open captions and open descriptive audio. \nChange\, Not Charity: The Americans with Disabilities Act tells the emotional and dramatic story of the decades-long push for equality and accessibility that culminated in the passage of the Americans with Disabilities Act (ADA) in 1990. While curb cuts\, ramps at building entrances\, and braille on elevator buttons seem commonplace today\, they were once the subject of a pitched battle that landed on the steps of Congress. Told through the voices of key participants and witnesses\, the film highlights the determined people who literally put their bodies on the line to achieve their goal and change the lives of all Americans. A story of courage and perseverance\, the film brings to life one of the great civil rights movements in American history\, where ordinary people made their voices heard and Congress responded. A testament to the power of coalition building and bipartisan compromise\, the passage of the ADA is a shining example of democracy in action.
URL:https://harkininstitute.drake.edu/event/april-29-ada-documentary-screening-and-panel-discussion-of-change-not-charity-the-americans-with-disabilities-act/
LOCATION:Tom and Ruth Harkin Center\, 2800 University Avenue\, Des Moines\, IA\, 50311\, United States
ATTACH;FMTTYPE=image/jpeg:https://harkininstitute.drake.edu/wp-content/uploads/sites/103/2025/04/ADA-Doc-Invite-Graphic_v2.jpg
ORGANIZER;CN="The Harkin Institute":MAILTO:harkininstitute@drake.edu
END:VEVENT
END:VCALENDAR