BEGIN:VCALENDAR
VERSION:2.0
PRODID:-//The Harkin Institute - ECPv6.15.17.1//NONSGML v1.0//EN
CALSCALE:GREGORIAN
METHOD:PUBLISH
X-WR-CALNAME:The Harkin Institute
X-ORIGINAL-URL:https://harkininstitute.drake.edu
X-WR-CALDESC:Events for The Harkin Institute
REFRESH-INTERVAL;VALUE=DURATION:PT1H
X-Robots-Tag:noindex
X-PUBLISHED-TTL:PT1H
BEGIN:VTIMEZONE
TZID:America/Chicago
BEGIN:DAYLIGHT
TZOFFSETFROM:-0600
TZOFFSETTO:-0500
TZNAME:CDT
DTSTART:20240310T080000
END:DAYLIGHT
BEGIN:STANDARD
TZOFFSETFROM:-0500
TZOFFSETTO:-0600
TZNAME:CST
DTSTART:20241103T070000
END:STANDARD
BEGIN:DAYLIGHT
TZOFFSETFROM:-0600
TZOFFSETTO:-0500
TZNAME:CDT
DTSTART:20250309T080000
END:DAYLIGHT
BEGIN:STANDARD
TZOFFSETFROM:-0500
TZOFFSETTO:-0600
TZNAME:CST
DTSTART:20251102T070000
END:STANDARD
BEGIN:DAYLIGHT
TZOFFSETFROM:-0600
TZOFFSETTO:-0500
TZNAME:CDT
DTSTART:20260308T080000
END:DAYLIGHT
BEGIN:STANDARD
TZOFFSETFROM:-0500
TZOFFSETTO:-0600
TZNAME:CST
DTSTART:20261101T070000
END:STANDARD
END:VTIMEZONE
BEGIN:VEVENT
DTSTART;TZID=America/Chicago:20250522T140000
DTEND;TZID=America/Chicago:20250522T150000
DTSTAMP:20260419T193013
CREATED:20250429T200643Z
LAST-MODIFIED:20250429T200643Z
UID:12181-1747922400-1747926000@harkininstitute.drake.edu
SUMMARY:May 22 | Long Term Care Policy Options Webinar
DESCRIPTION:The cost of long-term care has nearly doubled from the early 2000s to 2024\, both for at home care and nursing home care. These costs are out of reach for everyone except the wealthiest households. Long-term care costs are internalized by caregiver families in some combination of the following: diminished or lost earned income\, early retirement\, direct caregiving expenditures\, and mental and physical health issues.  There are a variety of policy options to address this economic burden on families across the income distribution. Join us for a free webinar featuring a panel of leading experts on LTC policies to learn more about current state\, national\, and international policies addressing long-term care needs.
URL:https://harkininstitute.drake.edu/event/may-22-long-term-care-policy-options-webinar/
ATTACH;FMTTYPE=image/png:https://harkininstitute.drake.edu/wp-content/uploads/sites/103/2025/04/LTC-Webinar-Invite-Graphic_v2-scaled.png
ORGANIZER;CN="The Harkin Institute":MAILTO:harkininstitute@drake.edu
END:VEVENT
END:VCALENDAR