BEGIN:VCALENDAR
VERSION:2.0
PRODID:-//The Harkin Institute - ECPv6.15.17.1//NONSGML v1.0//EN
CALSCALE:GREGORIAN
METHOD:PUBLISH
X-WR-CALNAME:The Harkin Institute
X-ORIGINAL-URL:https://harkininstitute.drake.edu
X-WR-CALDESC:Events for The Harkin Institute
REFRESH-INTERVAL;VALUE=DURATION:PT1H
X-Robots-Tag:noindex
X-PUBLISHED-TTL:PT1H
BEGIN:VTIMEZONE
TZID:America/Chicago
BEGIN:DAYLIGHT
TZOFFSETFROM:-0600
TZOFFSETTO:-0500
TZNAME:CDT
DTSTART:20240310T080000
END:DAYLIGHT
BEGIN:STANDARD
TZOFFSETFROM:-0500
TZOFFSETTO:-0600
TZNAME:CST
DTSTART:20241103T070000
END:STANDARD
BEGIN:DAYLIGHT
TZOFFSETFROM:-0600
TZOFFSETTO:-0500
TZNAME:CDT
DTSTART:20250309T080000
END:DAYLIGHT
BEGIN:STANDARD
TZOFFSETFROM:-0500
TZOFFSETTO:-0600
TZNAME:CST
DTSTART:20251102T070000
END:STANDARD
BEGIN:DAYLIGHT
TZOFFSETFROM:-0600
TZOFFSETTO:-0500
TZNAME:CDT
DTSTART:20260308T080000
END:DAYLIGHT
BEGIN:STANDARD
TZOFFSETFROM:-0500
TZOFFSETTO:-0600
TZNAME:CST
DTSTART:20261101T070000
END:STANDARD
END:VTIMEZONE
BEGIN:VEVENT
DTSTART;TZID=America/Chicago:20250716T153000
DTEND;TZID=America/Chicago:20250716T164500
DTSTAMP:20260419T165054
CREATED:20250701T200421Z
LAST-MODIFIED:20250701T200544Z
UID:12585-1752679800-1752684300@harkininstitute.drake.edu
SUMMARY:July 16 | Unveiling Ceremony and Panel Discussion
DESCRIPTION:Join us in celebrating the 35th anniversary of the Americans with Disabilities Act and our recently awarded “Gold” certification. Earlier this year\, the Tom and Ruth Harkin Center became only the second building in the United States to achieve the Gold Rick Hansen Foundation Accessibility Certification. Learn more about the certification and its many benefits here. \nOn Wednesday\, July 16\, 2025\, The Harkin Institute will host an unveiling ceremony for the certification plaque that will hang in our atrium. The ceremony will be followed by a panel discussion that will cover the benefits of universal design and how to implement accessibility features in your work place. Light refreshments will be provided. \nBefore the unveiling\, guests will have a chance to check out the Tom and Ruth Harkin Center for themselves! The building will be open for self-guided tours starting at noon. The Harkin Institute staff will be on hand for any questions you have throughout the tour. \nSchedule:\n3:30 p.m. – 3:45 p.m. – Unveiling Ceremony\n3:45 p.m. – 4:45 p.m. – Panel Discussion\n*The building will be open for self-guided tours from 12:00 p.m. to 3:30 p.m.
URL:https://harkininstitute.drake.edu/event/july-16-unveiling-ceremony-and-panel-discussion/
LOCATION:Tom and Ruth Harkin Center\, 2800 University Avenue\, Des Moines\, IA\, 50311\, United States
ATTACH;FMTTYPE=image/png:https://harkininstitute.drake.edu/wp-content/uploads/sites/103/2025/06/RHFAC-Unveiling-Header.png
ORGANIZER;CN="The Harkin Institute":MAILTO:harkininstitute@drake.edu
END:VEVENT
END:VCALENDAR