BEGIN:VCALENDAR
VERSION:2.0
PRODID:-//The Harkin Institute - ECPv6.15.17.1//NONSGML v1.0//EN
CALSCALE:GREGORIAN
METHOD:PUBLISH
X-ORIGINAL-URL:https://harkininstitute.drake.edu
X-WR-CALDESC:Events for The Harkin Institute
REFRESH-INTERVAL;VALUE=DURATION:PT1H
X-Robots-Tag:noindex
X-PUBLISHED-TTL:PT1H
BEGIN:VTIMEZONE
TZID:America/Chicago
BEGIN:DAYLIGHT
TZOFFSETFROM:-0600
TZOFFSETTO:-0500
TZNAME:CDT
DTSTART:20240310T080000
END:DAYLIGHT
BEGIN:STANDARD
TZOFFSETFROM:-0500
TZOFFSETTO:-0600
TZNAME:CST
DTSTART:20241103T070000
END:STANDARD
BEGIN:DAYLIGHT
TZOFFSETFROM:-0600
TZOFFSETTO:-0500
TZNAME:CDT
DTSTART:20250309T080000
END:DAYLIGHT
BEGIN:STANDARD
TZOFFSETFROM:-0500
TZOFFSETTO:-0600
TZNAME:CST
DTSTART:20251102T070000
END:STANDARD
BEGIN:DAYLIGHT
TZOFFSETFROM:-0600
TZOFFSETTO:-0500
TZNAME:CDT
DTSTART:20260308T080000
END:DAYLIGHT
BEGIN:STANDARD
TZOFFSETFROM:-0500
TZOFFSETTO:-0600
TZNAME:CST
DTSTART:20261101T070000
END:STANDARD
END:VTIMEZONE
BEGIN:VEVENT
DTSTART;TZID=America/Chicago:20250917T120000
DTEND;TZID=America/Chicago:20250917T153000
DTSTAMP:20260419T140900
CREATED:20250811T163245Z
LAST-MODIFIED:20250821T201638Z
UID:12688-1758110400-1758123000@harkininstitute.drake.edu
SUMMARY:September 17 | Roadmaps to Retirement 2025: Global Lessons and Paths Ahead
DESCRIPTION:Roadmaps to Retirement 2025: Global Lessons and Paths Ahead continues our discussion on strategies to improve retirement security at the retirement system level. The roundtable discussion will focus on the private retirement savings landscape in the US and how it compares to countries such as the United Kingdom and Australia. The roundtable will address both retirement savings accumulation and retirement income options\, current policies and regulations\, and future goals.
URL:https://harkininstitute.drake.edu/event/september-17-roadmaps-to-retirement-2025-global-lessons-and-paths-ahead/
LOCATION:Tom and Ruth Harkin Center\, 2800 University Avenue\, Des Moines\, IA\, 50311\, United States
ATTACH;FMTTYPE=image/jpeg:https://harkininstitute.drake.edu/wp-content/uploads/sites/103/2025/08/Roadmaps-2025-Web-Header.jpg
ORGANIZER;CN="The Harkin Institute":MAILTO:harkininstitute@drake.edu
END:VEVENT
END:VCALENDAR