BEGIN:VCALENDAR
VERSION:2.0
PRODID:-//The Harkin Institute - ECPv6.15.17.1//NONSGML v1.0//EN
CALSCALE:GREGORIAN
METHOD:PUBLISH
X-ORIGINAL-URL:https://harkininstitute.drake.edu
X-WR-CALDESC:Events for The Harkin Institute
REFRESH-INTERVAL;VALUE=DURATION:PT1H
X-Robots-Tag:noindex
X-PUBLISHED-TTL:PT1H
BEGIN:VTIMEZONE
TZID:America/Chicago
BEGIN:DAYLIGHT
TZOFFSETFROM:-0600
TZOFFSETTO:-0500
TZNAME:CDT
DTSTART:20240310T080000
END:DAYLIGHT
BEGIN:STANDARD
TZOFFSETFROM:-0500
TZOFFSETTO:-0600
TZNAME:CST
DTSTART:20241103T070000
END:STANDARD
BEGIN:DAYLIGHT
TZOFFSETFROM:-0600
TZOFFSETTO:-0500
TZNAME:CDT
DTSTART:20250309T080000
END:DAYLIGHT
BEGIN:STANDARD
TZOFFSETFROM:-0500
TZOFFSETTO:-0600
TZNAME:CST
DTSTART:20251102T070000
END:STANDARD
BEGIN:DAYLIGHT
TZOFFSETFROM:-0600
TZOFFSETTO:-0500
TZNAME:CDT
DTSTART:20260308T080000
END:DAYLIGHT
BEGIN:STANDARD
TZOFFSETFROM:-0500
TZOFFSETTO:-0600
TZNAME:CST
DTSTART:20261101T070000
END:STANDARD
END:VTIMEZONE
BEGIN:VEVENT
DTSTART;TZID=America/Chicago:20251008T183000
DTEND;TZID=America/Chicago:20251008T193000
DTSTAMP:20260419T124324
CREATED:20250924T225548Z
LAST-MODIFIED:20250924T225548Z
UID:12874-1759948200-1759951800@harkininstitute.drake.edu
SUMMARY:October 8 | Iowa Waterways Report: Training Session for Viewing Parties
DESCRIPTION:The groundbreaking Central Iowa Source Water Resource Assessment (CISWRA) report provided the most comprehensive and unbiased analysis of water quality in the Des Moines and Raccoon rivers to date\, revealing that agricultural runoff is the primary source of dangerous levels of nitrates and other pollutants. A presentation of this report hosted by The Harkin Institute at Drake University gathered over 600 in-person attendees and was watched by nearly 3\,000 people online. Though the report was focused on Central Iowa\, it has implications for waterways across the state\, as many Iowans are facing challenges posed by the high levels of nitrates and agricultural chemicals in their waterways. \nThe Harkin Institute and Iowa Environmental Council are now providing an opportunity for concerned Iowans to host their own discussions about the CISWRA Report and what it means for their community. Join us for this online training that reviews the contents of the CISWRA presentation\, provides tools for hosting your own viewing\, and describes an overview of a toolkit that has been developed for people interested in hosting their own discussions. \nFor those who can’t attend this training live\, a recording will be available on The Harkin Institute’s YouTube channel.
URL:https://harkininstitute.drake.edu/event/october-8-iowa-waterways-report-training-session-for-viewing-parties/
ATTACH;FMTTYPE=image/jpeg:https://harkininstitute.drake.edu/wp-content/uploads/sites/103/2025/09/CISWRA-Training-Eventbrite-Header-2.0.jpg
ORGANIZER;CN="The Harkin Institute":MAILTO:harkininstitute@drake.edu
END:VEVENT
END:VCALENDAR