BEGIN:VCALENDAR
VERSION:2.0
PRODID:-//The Harkin Institute - ECPv6.15.17.1//NONSGML v1.0//EN
CALSCALE:GREGORIAN
METHOD:PUBLISH
X-ORIGINAL-URL:https://harkininstitute.drake.edu
X-WR-CALDESC:Events for The Harkin Institute
REFRESH-INTERVAL;VALUE=DURATION:PT1H
X-Robots-Tag:noindex
X-PUBLISHED-TTL:PT1H
BEGIN:VTIMEZONE
TZID:America/New_York
BEGIN:DAYLIGHT
TZOFFSETFROM:-0500
TZOFFSETTO:-0400
TZNAME:EDT
DTSTART:20240310T070000
END:DAYLIGHT
BEGIN:STANDARD
TZOFFSETFROM:-0400
TZOFFSETTO:-0500
TZNAME:EST
DTSTART:20241103T060000
END:STANDARD
BEGIN:DAYLIGHT
TZOFFSETFROM:-0500
TZOFFSETTO:-0400
TZNAME:EDT
DTSTART:20250309T070000
END:DAYLIGHT
BEGIN:STANDARD
TZOFFSETFROM:-0400
TZOFFSETTO:-0500
TZNAME:EST
DTSTART:20251102T060000
END:STANDARD
BEGIN:DAYLIGHT
TZOFFSETFROM:-0500
TZOFFSETTO:-0400
TZNAME:EDT
DTSTART:20260308T070000
END:DAYLIGHT
BEGIN:STANDARD
TZOFFSETFROM:-0400
TZOFFSETTO:-0500
TZNAME:EST
DTSTART:20261101T060000
END:STANDARD
END:VTIMEZONE
BEGIN:VEVENT
DTSTART;TZID=America/New_York:20251016T083000
DTEND;TZID=America/New_York:20251016T163000
DTSTAMP:20260419T124343
CREATED:20250819T145245Z
LAST-MODIFIED:20250821T201507Z
UID:12735-1760603400-1760632200@harkininstitute.drake.edu
SUMMARY:October 16 | 2025 Harkin Retirement Security Symposium: Inclusive Long-Term Care Policies and Supports
DESCRIPTION:The 2025 Harkin Retirement Security Symposium: Inclusive Long-Term Care Policies and Supports will convene policy-makers\, researchers\, and advocacy organizations working on long-term care policy. The program includes discussions on federal and state policies\,  and workplace policies supporting caregivers\, caregiving experiences and their impact on retirement security\, as well as other resources to support caregivers and their families. \nThe cost of care has nearly doubled from the early 2000s to 2024\, both for at-home care and nursing home care. These costs are out of reach for everyone except the wealthiest households. Long-term care costs are internalized by caregiver families in some combination of the following: diminished or lost earned income\, early retirement\, direct caregiving expenditures\, and mental and physical health issues.  There are a variety of policy options to address this economic burden on families across the income distribution\, which will be discussed as part of the program.
URL:https://harkininstitute.drake.edu/event/october-16-2025-harkin-retirement-security-symposium-inclusive-long-term-care-policies-and-supports/
LOCATION:Barbara Jordan Conference Center\, 1330 G St NW\, Washington\, DC\, 20005
CATEGORIES:Retirement Security Symposium
ATTACH;FMTTYPE=image/jpeg:https://harkininstitute.drake.edu/wp-content/uploads/sites/103/2025/08/RSS-25-Email-Header.jpg
ORGANIZER;CN="The Harkin Institute":MAILTO:harkininstitute@drake.edu
END:VEVENT
END:VCALENDAR