BEGIN:VCALENDAR
VERSION:2.0
PRODID:-//The Harkin Institute - ECPv6.15.17.1//NONSGML v1.0//EN
CALSCALE:GREGORIAN
METHOD:PUBLISH
X-ORIGINAL-URL:https://harkininstitute.drake.edu
X-WR-CALDESC:Events for The Harkin Institute
REFRESH-INTERVAL;VALUE=DURATION:PT1H
X-Robots-Tag:noindex
X-PUBLISHED-TTL:PT1H
BEGIN:VTIMEZONE
TZID:America/Chicago
BEGIN:DAYLIGHT
TZOFFSETFROM:-0600
TZOFFSETTO:-0500
TZNAME:CDT
DTSTART:20240310T080000
END:DAYLIGHT
BEGIN:STANDARD
TZOFFSETFROM:-0500
TZOFFSETTO:-0600
TZNAME:CST
DTSTART:20241103T070000
END:STANDARD
BEGIN:DAYLIGHT
TZOFFSETFROM:-0600
TZOFFSETTO:-0500
TZNAME:CDT
DTSTART:20250309T080000
END:DAYLIGHT
BEGIN:STANDARD
TZOFFSETFROM:-0500
TZOFFSETTO:-0600
TZNAME:CST
DTSTART:20251102T070000
END:STANDARD
BEGIN:DAYLIGHT
TZOFFSETFROM:-0600
TZOFFSETTO:-0500
TZNAME:CDT
DTSTART:20260308T080000
END:DAYLIGHT
BEGIN:STANDARD
TZOFFSETFROM:-0500
TZOFFSETTO:-0600
TZNAME:CST
DTSTART:20261101T070000
END:STANDARD
END:VTIMEZONE
BEGIN:VEVENT
DTSTART;TZID=America/Chicago:20251028T120000
DTEND;TZID=America/Chicago:20251028T130000
DTSTAMP:20260419T111911
CREATED:20250919T150310Z
LAST-MODIFIED:20250919T150310Z
UID:12803-1761652800-1761656400@harkininstitute.drake.edu
SUMMARY:October 28 | Data in Action: New Findings from the National Training\, Education and Workforce Survey (NTEWS)
DESCRIPTION:Join The Harkin Institute for Public Policy & Citizen Engagement and the PROPEL (Promoting Resilience\, Opportunity\, and Progress in Employment and Learning) Center at the American Institutes for Research for a webinar on never-before-released analyses of what people with disabilities reported when participating in the National Training\, Education and Workforce Survey (NTEWS). \nThis webinar will describe the experiences survey participants had with nondegree credential attainment and work-based learning\, as well as their educational attainment and employment. The presentation will be followed by a panel discussion about using these data in practical ways as you support career planning for people with disabilities\, or identify talent for your business or government agency. \nSurvey data were collected by the US Census Bureau. The NTEWS is a nationally representative survey of individuals aged 16 through 75 that the National Center for Science and Engineering Statistics and the National Center for Education Statistics sponsored.
URL:https://harkininstitute.drake.edu/event/october-28-data-in-action-new-findings-from-the-national-training-education-and-workforce-survey-ntews/
ATTACH;FMTTYPE=image/jpeg:https://harkininstitute.drake.edu/wp-content/uploads/sites/103/2025/09/AIR-Webinar-Header-FINAL.jpg
ORGANIZER;CN="The Harkin Institute":MAILTO:harkininstitute@drake.edu
END:VEVENT
END:VCALENDAR