BEGIN:VCALENDAR
VERSION:2.0
PRODID:-//The Harkin Institute - ECPv6.15.17.1//NONSGML v1.0//EN
CALSCALE:GREGORIAN
METHOD:PUBLISH
X-WR-CALNAME:The Harkin Institute
X-ORIGINAL-URL:https://harkininstitute.drake.edu
X-WR-CALDESC:Events for The Harkin Institute
REFRESH-INTERVAL;VALUE=DURATION:PT1H
X-Robots-Tag:noindex
X-PUBLISHED-TTL:PT1H
BEGIN:VTIMEZONE
TZID:America/Chicago
BEGIN:DAYLIGHT
TZOFFSETFROM:-0600
TZOFFSETTO:-0500
TZNAME:CDT
DTSTART:20240310T080000
END:DAYLIGHT
BEGIN:STANDARD
TZOFFSETFROM:-0500
TZOFFSETTO:-0600
TZNAME:CST
DTSTART:20241103T070000
END:STANDARD
BEGIN:DAYLIGHT
TZOFFSETFROM:-0600
TZOFFSETTO:-0500
TZNAME:CDT
DTSTART:20250309T080000
END:DAYLIGHT
BEGIN:STANDARD
TZOFFSETFROM:-0500
TZOFFSETTO:-0600
TZNAME:CST
DTSTART:20251102T070000
END:STANDARD
BEGIN:DAYLIGHT
TZOFFSETFROM:-0600
TZOFFSETTO:-0500
TZNAME:CDT
DTSTART:20260308T080000
END:DAYLIGHT
BEGIN:STANDARD
TZOFFSETFROM:-0500
TZOFFSETTO:-0600
TZNAME:CST
DTSTART:20261101T070000
END:STANDARD
BEGIN:DAYLIGHT
TZOFFSETFROM:-0600
TZOFFSETTO:-0500
TZNAME:CDT
DTSTART:20270314T080000
END:DAYLIGHT
BEGIN:STANDARD
TZOFFSETFROM:-0500
TZOFFSETTO:-0600
TZNAME:CST
DTSTART:20271107T070000
END:STANDARD
END:VTIMEZONE
BEGIN:VEVENT
DTSTART;VALUE=DATE:20251108
DTEND;VALUE=DATE:20251110
DTSTAMP:20260419T141144
CREATED:20251021T202031Z
LAST-MODIFIED:20251021T202031Z
UID:12972-1762560000-1762732799@harkininstitute.drake.edu
SUMMARY:November 8-9 | A Taste of ReelAbilities Des Moines 2025
DESCRIPTION:Founded in New York City in 2007\, ReelAbilities challenges stereotypes\, celebrates authentic disability representation in movies\, and expands opportunities for disabled creators worldwide. The 2025 Des Moines festival is “A Taste of ReelAbilities\,” screening a combination of features and shorts over two days — first at The Harkin Institute\, then at the Des Moines Art Center\, showing different films each day. All film screenings will be followed by a conversation with individuals from the disability community related to the specific content of the films. \nAll films will provide open captions and have audio description capabilities. \nIn addition to films being shown at the Des Moines Art Center and The Harkin Institute\, The Varsity Cinema will present a related film on Wednesday\, November 5\, leading up to “A Taste of ReelAbilities” on Saturday\, November 8\, and Sunday\, November 9. \nThis program is supported by the Principal® Foundation.
URL:https://harkininstitute.drake.edu/event/november-8-9-a-taste-of-reelabilities-des-moines-2025/
LOCATION:Tom and Ruth Harkin Center\, 2800 University Avenue\, Des Moines\, IA\, 50311\, United States
ATTACH;FMTTYPE=image/jpeg:https://harkininstitute.drake.edu/wp-content/uploads/sites/103/2025/10/ReelAbilities-2026.jpg
ORGANIZER;CN="The Harkin Institute":MAILTO:harkininstitute@drake.edu
END:VEVENT
BEGIN:VEVENT
DTSTART;TZID=America/Chicago:20251112T180000
DTEND;TZID=America/Chicago:20251112T200000
DTSTAMP:20260419T141144
CREATED:20250922T205740Z
LAST-MODIFIED:20251026T221601Z
UID:12861-1762970400-1762977600@harkininstitute.drake.edu
SUMMARY:November 12 | The Heartland at a Crossroads: Bold Voices on America’s Rural Future
DESCRIPTION:Pulitzer Prize winner Art Cullen has established himself as an essential witness to the transformation of rural America\, thanks to his unique perspective as editor of The Storm Lake Times. His new book\, We Crapped In Our Nests: Notes From the Edge of the World\, offers an unflinching examination of how we’ve degraded our environment and communities\, along with his vision for rural America’s future. \nCullen will be joined in conversation with Chris Jones\, President of the Driftless Water Defenders and author of The Swine Republic. They will discuss topics including corporate agricultural dominance\, water quality protection\, rural community transformation\, immigration and rural vitality\, and more. \nThe event will include opening remarks from Senator Tom Harkin (retired). Books will be available for purchase before and after the event.
URL:https://harkininstitute.drake.edu/event/november-12-the-heartland-at-a-crossroads-bold-voices-on-americas-rural-future/
LOCATION:Tom and Ruth Harkin Center\, 2800 University Avenue\, Des Moines\, IA\, 50311\, United States
ATTACH;FMTTYPE=image/jpeg:https://harkininstitute.drake.edu/wp-content/uploads/sites/103/2025/09/Art-Cullen-Event-Header-FINAL.jpg
ORGANIZER;CN="The Harkin Institute":MAILTO:harkininstitute@drake.edu
END:VEVENT
BEGIN:VEVENT
DTSTART;TZID=America/Chicago:20251113T180000
DTEND;TZID=America/Chicago:20251113T200000
DTSTAMP:20260419T141144
CREATED:20251021T201839Z
LAST-MODIFIED:20251021T201920Z
UID:12970-1763056800-1763064000@harkininstitute.drake.edu
SUMMARY:November 13 | From DC to Iowa: How Policy Shifts Will Impact the Disability Community
DESCRIPTION:Join the Iowa Disability Policy Alliance for a panel discussion\, resource fair\, and networking reception at the Tom and Ruth Harkin Center on November 13\, 2025. Panelists will discuss the state of disability legislation at the federal\, state\, and local levels. Members of the Iowa Disability Policy Alliance will have tables with information and resources before and after the event. Light refreshments will be provided. \nSenator Tom Harkin (retired) will provide opening remarks.
URL:https://harkininstitute.drake.edu/event/november-13-from-dc-to-iowa-how-policy-shifts-will-impact-the-disability-community/
LOCATION:Tom and Ruth Harkin Center\, 2800 University Avenue\, Des Moines\, IA\, 50311\, United States
ATTACH;FMTTYPE=image/jpeg:https://harkininstitute.drake.edu/wp-content/uploads/sites/103/2025/10/Disability-Coalition-Eventbrite-Header.jpg
ORGANIZER;CN="The Harkin Institute":MAILTO:harkininstitute@drake.edu
END:VEVENT
BEGIN:VEVENT
DTSTART;TZID=America/Chicago:20260227T090000
DTEND;TZID=America/Chicago:20260227T161500
DTSTAMP:20260419T141144
CREATED:20260227T221443Z
LAST-MODIFIED:20260227T221443Z
UID:13178-1772182800-1772208900@harkininstitute.drake.edu
SUMMARY:2026 Harkin Retirement Security Symposium
DESCRIPTION:The 2026 Harkin Retirement Security Symposium will focus on a broader financial wellness theme supported by panels along the continuum of retirement security policy issues. The speakers will discuss policies supporting retirement savings access and accumulation\, navigating Social Security and Medicare\, and the intergenerational impacts of these programs\, access to retirement planning\, retirement income decisions\, and long-term care policies and supports. The symposium is a hybrid event\, with in-person and virtual options for attendance\, and will be available for free on The Harkin Institute YouTube channel after the event. \n\nREGISTER HERE
URL:https://harkininstitute.drake.edu/event/2026-harkin-retirement-security-symposium/
LOCATION:The Olmsted Center at Drake University\, 2875 University Avenue\, Des Moines\, IA\, 50311\, United States
ORGANIZER;CN="The Harkin Institute":MAILTO:harkininstitute@drake.edu
END:VEVENT
BEGIN:VEVENT
DTSTART;TZID=America/Chicago:20260311T080000
DTEND;TZID=America/Chicago:20260311T170000
DTSTAMP:20260419T141144
CREATED:20260114T194052Z
LAST-MODIFIED:20260310T161456Z
UID:13046-1773216000-1773248400@harkininstitute.drake.edu
SUMMARY:2026 Harkin on Wellness Symposium: The Treatment and Prevention of Cancer
DESCRIPTION:Overview\nPlease join the Harkin Institute for Public Policy and Citizen Engagement for an important event highlighting the challenges we’re facing and the progress being made across the nation in the fight against cancer\, with a specific focus on environmental health and lifestyle medicine. The 2026 Harkin on Wellness Symposium will take place on March 11\, 2026\, focusing on the Treatment and Prevention of Cancer. \nThis year’s theme was chosen to explore the comprehensive landscape of cancer care today—from the environmental determinants that impact our health to the lifestyle and clinical interventions saving lives. Clean water and a healthy environment are fundamental to public health\, yet the emerging link between environmental pollutants and cancer remains a critical challenge for our communities. The 2026 symposium will feature two distinguished keynote speakers: \n\nDr. Ricardo Salvador\, co-founder and board member of the HEAL (Health\, Environment\, Agriculture\, Labor) Food Alliance\nDr. Jesse Bell\, University of Nebraska Medical Center expert on nitrate pollution in drinking water.\n\nIn addition to our keynotes\, the event will feature two panel discussions: \n\nWhere We’re At: The Battle Against Cancer in 2026: A comprehensive look at the current state of treatment and prevention.\nReporting on the Drinking Water and Cancer Crises in Iowa: A deep dive into the local environmental challenges and the role of journalism in public health.\n\nThis year’s event will also recognize the recipients of the Harkin on Wellness Award\, honoring those who have made significant contributions to the prevention and treatment of cancer. \nAttend In-Person or Online\nThis is a hybrid event. Attendees have the choice to attend in person at Drake University in Des Moines\, Iowa\, or virtually. Register here. \n\nIn-Person: The event will take place at Parents Hall in the Olmsted Center at Drake. Lunch will be provided.\nOnline: Attendees will watch a live stream of all general session content and will have the opportunity to participate in real-time Q&A.\nCost: There is no cost to attend in person or online\, but a donation is encouraged and greatly appreciated to help continue this important work.\n\n  \nAgenda for the 2026 Harkin on Wellness Symposium\n\n\n\nTime\nSession\nSpeakers\n\n\n9:00 a.m.\nWelcome Remarks\n\n\nAdam Shriver\, Director of Wellness and Nutrition Policy\, The Harkin Institute\n\n\n\n\n9:10 a.m.\nMorning Keynote\n\n\nIntroduction by U.S. Senator Tom Harkin (retired)\nDr. Ricardo Salvador\, co-founder and board member of the HEAL (Health\, Environment\, Agriculture\, Labor) Food Alliance\n\n\n\n\n10:00 a.m.\nBreak\n\n\n\n10:10 a.m.\nPanel 1: Where We’re At: The Battle Against Cancer in 2026\n\n\nModerated by Drake University Provost Dr. Sue Mattison\nDr. Richard Deming\, Medical Director of MercyOne Richard Deming Cancer Center and Oncologist\nJoe Garcia\, Aflac Regional Vice President for the Northwest Region\nDr. Greg Kennedy\, UnityPoint Health Chief Medical Officer – Oncology Service Line\nJean McGinnis\, Physician Assistant-Certified\, clinician and educator\n\n\n\n\n11:30 a.m.\nLunch\n\n\n\n12:20 p.m.\nAfternoon Keynote\n\n\nIntroduction by Audrey Tran Lam\, University of Northern Iowa Environmental Health Program Director\nDr. Jesse Bell\, University of Nebraska Medical Center expert on nitrate pollution in drinking water\n\n\n\n\n1:10 p.m.\nBreak\n\n\n\n1:20 p.m.\nDesignee Presentations\n\n\nJohn Stoddard Cancer Center | Meals That Matter and Meals That Matter at Home\nAbove + Beyond Cancer\nFaces of Courage Foundation\nCancer Screen Iowa\nHelen G Nassif Community Cancer Center\nIowa Cancer Consortium\nCancer and Environment Network of Southwestern Pennsylvania (CEN) – Project REACH & The Environmental Justice Summit Series\nOurWaters & OurSoils (OWOS) – Integrated Nutrient\, Organic Load\, and Environmental Exposure Reduction Program for Cancer Prevention\nPolk County Health Department – Ribbons of Hope\nBlueprint\, LLC (operating as BlueprintNav)\n\n\n\n\n2:30 p.m.\nBreak\n\n\n\n2:40 p.m.\nPanel 2: Reporting on the Drinking Water and Cancer Crises in Iowa\n\n\nModerated by Jason Clayworth\, staff writer at Axios Des Moines\nNina B. Elkadi\, Editor-at-Large for Sentient Media\nCarey Gillam\, Managing Editor of The New Lede and contributor for the Guardian\nDan Keating\, staff writer at The Washington Post\n\n\n\n\n4:00 p.m.\nAn update on the Cancer and Environmental Risk Factors Report in collaboration with the Iowa Environmental Council\n\n\nThe Iowa Environmental Council\n\n\n\n\n4:30 p.m.\nClosing Remarks\n\n\n\n\n\nAccommodations\n\nASL & Captions: American Sign Language (ASL) and live captions in English will be available for all general session content for all attendees.\nBreakout Sessions: ASL interpretation for in-person breakout sessions is available upon request.\nContact: If you have any questions regarding accommodations\, please contact us at harkininstitute@drake.edu or 515-271-3623.\n\nParking\n\nIn-person attendees will be able to park in Lot 24\, located next to the Tom and Ruth Harkin Center.\nDetailed information regarding a visitor parking pass will be emailed to all registered in-person attendees prior to the event date.
URL:https://harkininstitute.drake.edu/event/2026-harkin-on-wellness-symposium-the-treatment-and-prevention-of-cancer/
LOCATION:The Olmsted Center at Drake University\, 2875 University Avenue\, Des Moines\, IA\, 50311\, United States
CATEGORIES:Harkin On Wellness Symposium
ORGANIZER;CN="The Harkin Institute":MAILTO:harkininstitute@drake.edu
END:VEVENT
BEGIN:VEVENT
DTSTART;TZID=America/Chicago:20260312T190000
DTEND;TZID=America/Chicago:20260312T200000
DTSTAMP:20260419T141144
CREATED:20260227T221002Z
LAST-MODIFIED:20260227T221518Z
UID:13176-1773342000-1773345600@harkininstitute.drake.edu
SUMMARY:2026 Sussman Spring Lecture: Social by Nature: Environmental Photojournalism for a More Hopeful Future
DESCRIPTION:Join us for the 2026 Sussman Lecture featuring photojournalist and educator KC McGinnis\, whose work has been published by leading national outlets and takes him across Iowa and the country to document the complex relationship between people and the environment. In his talk\, “Social by Nature: Environmental Photojournalism for a More Hopeful Future\,” McGinnis explores the stories behind his compelling images—from industrial agriculture and family farms to environmental justice movements and communities shaped by the land. \nDrawing from years of field reporting\, McGinnis examines how environmental narratives emerge through everyday lives\, cultural traditions\, and the natural places people depend on. His work offers an honest yet hopeful lens on the challenges and possibilities that define the future of our shared environment. \nThe lecture will also feature a selection of McGinnis’s photographs\, accompanied by detailed captions that illuminate the context and human stories behind the images. \nREGISTER HERE
URL:https://harkininstitute.drake.edu/event/2026-sussman-spring-lecture-social-by-nature-environmental-photojournalism-for-a-more-hopeful-future/
LOCATION:Tom and Ruth Harkin Center\, 2800 University Avenue\, Des Moines\, IA\, 50311\, United States
ORGANIZER;CN="The Harkin Institute":MAILTO:harkininstitute@drake.edu
END:VEVENT
BEGIN:VEVENT
DTSTART;TZID=America/Chicago:20260414T090000
DTEND;TZID=America/Chicago:20260414T161500
DTSTAMP:20260419T141144
CREATED:20260227T221714Z
LAST-MODIFIED:20260227T221714Z
UID:13182-1776157200-1776183300@harkininstitute.drake.edu
SUMMARY:2026 Harkin Retirement Security Symposium
DESCRIPTION:The 2026 Harkin Retirement Security Symposium will focus on a broader financial wellness theme supported by panels along the continuum of retirement security policy issues. The speakers will discuss policies supporting retirement savings access and accumulation\, navigating Social Security and Medicare\, and the intergenerational impacts of these programs\, access to retirement planning\, retirement income decisions\, and long-term care policies and supports. The symposium is a hybrid event\, with in-person and virtual options for attendance\, and will be available for free on The Harkin Institute YouTube channel after the event. \n\n\n\nREGISTER HERE
URL:https://harkininstitute.drake.edu/event/2026-harkin-retirement-security-symposium-2/
LOCATION:The Olmsted Center at Drake University\, 2875 University Avenue\, Des Moines\, IA\, 50311\, United States
ORGANIZER;CN="The Harkin Institute":MAILTO:harkininstitute@drake.edu
END:VEVENT
BEGIN:VEVENT
DTSTART;TZID=America/Chicago:20260415T193000
DTEND;TZID=America/Chicago:20260415T203000
DTSTAMP:20260419T141144
CREATED:20260312T192425Z
LAST-MODIFIED:20260312T192705Z
UID:13329-1776281400-1776285000@harkininstitute.drake.edu
SUMMARY:An Evening with Charlie Cook: Spring 2026
DESCRIPTION:An Evening with Charlie Cook will take place on Wednesday April 15\, 2026. The event offers an opportunity to hear insight and analysis on the state of American politics from one of the nation’s leading authorities on the U.S. political landscape. As the country moves through another pivotal election cycle\, Cook will share his perspective on the 2026 primary elections\, emerging political trends\, and the broader forces shaping the national political environment ahead of the general election.  \nCook is a political analyst for National Journal\, founder of the Cook Political Report\, co-author of recent editions of the Almanac of American Politics\, and a member of the National Advisory Council for The Harkin Institute. Known for his nonpartisan analysis and deep understanding of electoral politics\, Cook regularly provides insight on the evolving dynamics influencing campaigns\, parties\, and voters across the country. \nRegister for the free event \nAn Evening with Charlie Cook is made possible by a generous gift from friends of The Harkin Institute and Drake University who wish to remain anonymous.
URL:https://harkininstitute.drake.edu/event/an-evening-with-charlie-cook-spring-2026/
LOCATION:Sheslow Auditorium\, 2507 University Ave\, Des Moines\, 50311\, United States
CATEGORIES:An Evening with Charlie Cook
ORGANIZER;CN="The Harkin Institute":MAILTO:harkininstitute@drake.edu
END:VEVENT
END:VCALENDAR