BEGIN:VCALENDAR
VERSION:2.0
PRODID:-//The Harkin Institute - ECPv6.15.17.1//NONSGML v1.0//EN
CALSCALE:GREGORIAN
METHOD:PUBLISH
X-WR-CALNAME:The Harkin Institute
X-ORIGINAL-URL:https://harkininstitute.drake.edu
X-WR-CALDESC:Events for The Harkin Institute
REFRESH-INTERVAL;VALUE=DURATION:PT1H
X-Robots-Tag:noindex
X-PUBLISHED-TTL:PT1H
BEGIN:VTIMEZONE
TZID:America/Chicago
BEGIN:DAYLIGHT
TZOFFSETFROM:-0600
TZOFFSETTO:-0500
TZNAME:CDT
DTSTART:20250309T080000
END:DAYLIGHT
BEGIN:STANDARD
TZOFFSETFROM:-0500
TZOFFSETTO:-0600
TZNAME:CST
DTSTART:20251102T070000
END:STANDARD
BEGIN:DAYLIGHT
TZOFFSETFROM:-0600
TZOFFSETTO:-0500
TZNAME:CDT
DTSTART:20260308T080000
END:DAYLIGHT
BEGIN:STANDARD
TZOFFSETFROM:-0500
TZOFFSETTO:-0600
TZNAME:CST
DTSTART:20261101T070000
END:STANDARD
BEGIN:DAYLIGHT
TZOFFSETFROM:-0600
TZOFFSETTO:-0500
TZNAME:CDT
DTSTART:20270314T080000
END:DAYLIGHT
BEGIN:STANDARD
TZOFFSETFROM:-0500
TZOFFSETTO:-0600
TZNAME:CST
DTSTART:20271107T070000
END:STANDARD
END:VTIMEZONE
BEGIN:VEVENT
DTSTART;TZID=America/Chicago:20260312T190000
DTEND;TZID=America/Chicago:20260312T200000
DTSTAMP:20260419T215551
CREATED:20260227T221002Z
LAST-MODIFIED:20260227T221518Z
UID:13176-1773342000-1773345600@harkininstitute.drake.edu
SUMMARY:2026 Sussman Spring Lecture: Social by Nature: Environmental Photojournalism for a More Hopeful Future
DESCRIPTION:Join us for the 2026 Sussman Lecture featuring photojournalist and educator KC McGinnis\, whose work has been published by leading national outlets and takes him across Iowa and the country to document the complex relationship between people and the environment. In his talk\, “Social by Nature: Environmental Photojournalism for a More Hopeful Future\,” McGinnis explores the stories behind his compelling images—from industrial agriculture and family farms to environmental justice movements and communities shaped by the land. \nDrawing from years of field reporting\, McGinnis examines how environmental narratives emerge through everyday lives\, cultural traditions\, and the natural places people depend on. His work offers an honest yet hopeful lens on the challenges and possibilities that define the future of our shared environment. \nThe lecture will also feature a selection of McGinnis’s photographs\, accompanied by detailed captions that illuminate the context and human stories behind the images. \nREGISTER HERE
URL:https://harkininstitute.drake.edu/event/2026-sussman-spring-lecture-social-by-nature-environmental-photojournalism-for-a-more-hopeful-future/
LOCATION:Tom and Ruth Harkin Center\, 2800 University Avenue\, Des Moines\, IA\, 50311\, United States
ORGANIZER;CN="The Harkin Institute":MAILTO:harkininstitute@drake.edu
END:VEVENT
BEGIN:VEVENT
DTSTART;TZID=America/Chicago:20260414T090000
DTEND;TZID=America/Chicago:20260414T161500
DTSTAMP:20260419T215551
CREATED:20260227T221714Z
LAST-MODIFIED:20260227T221714Z
UID:13182-1776157200-1776183300@harkininstitute.drake.edu
SUMMARY:2026 Harkin Retirement Security Symposium
DESCRIPTION:The 2026 Harkin Retirement Security Symposium will focus on a broader financial wellness theme supported by panels along the continuum of retirement security policy issues. The speakers will discuss policies supporting retirement savings access and accumulation\, navigating Social Security and Medicare\, and the intergenerational impacts of these programs\, access to retirement planning\, retirement income decisions\, and long-term care policies and supports. The symposium is a hybrid event\, with in-person and virtual options for attendance\, and will be available for free on The Harkin Institute YouTube channel after the event. \n\n\n\nREGISTER HERE
URL:https://harkininstitute.drake.edu/event/2026-harkin-retirement-security-symposium-2/
LOCATION:The Olmsted Center at Drake University\, 2875 University Avenue\, Des Moines\, IA\, 50311\, United States
ORGANIZER;CN="The Harkin Institute":MAILTO:harkininstitute@drake.edu
END:VEVENT
BEGIN:VEVENT
DTSTART;TZID=America/Chicago:20260415T193000
DTEND;TZID=America/Chicago:20260415T203000
DTSTAMP:20260419T215551
CREATED:20260312T192425Z
LAST-MODIFIED:20260312T192705Z
UID:13329-1776281400-1776285000@harkininstitute.drake.edu
SUMMARY:An Evening with Charlie Cook: Spring 2026
DESCRIPTION:An Evening with Charlie Cook will take place on Wednesday April 15\, 2026. The event offers an opportunity to hear insight and analysis on the state of American politics from one of the nation’s leading authorities on the U.S. political landscape. As the country moves through another pivotal election cycle\, Cook will share his perspective on the 2026 primary elections\, emerging political trends\, and the broader forces shaping the national political environment ahead of the general election.  \nCook is a political analyst for National Journal\, founder of the Cook Political Report\, co-author of recent editions of the Almanac of American Politics\, and a member of the National Advisory Council for The Harkin Institute. Known for his nonpartisan analysis and deep understanding of electoral politics\, Cook regularly provides insight on the evolving dynamics influencing campaigns\, parties\, and voters across the country. \nRegister for the free event \nAn Evening with Charlie Cook is made possible by a generous gift from friends of The Harkin Institute and Drake University who wish to remain anonymous.
URL:https://harkininstitute.drake.edu/event/an-evening-with-charlie-cook-spring-2026/
LOCATION:Sheslow Auditorium\, 2507 University Ave\, Des Moines\, 50311\, United States
CATEGORIES:An Evening with Charlie Cook
ORGANIZER;CN="The Harkin Institute":MAILTO:harkininstitute@drake.edu
END:VEVENT
END:VCALENDAR